BEGIN:VCALENDAR
VERSION:2.0
PRODID:-//Bakede - ECPv6.15.20//NONSGML v1.0//EN
CALSCALE:GREGORIAN
METHOD:PUBLISH
X-WR-CALNAME:Bakede
X-ORIGINAL-URL:https://bakede.de
X-WR-CALDESC:Veranstaltungen für Bakede
REFRESH-INTERVAL;VALUE=DURATION:PT1H
X-Robots-Tag:noindex
X-PUBLISHED-TTL:PT1H
BEGIN:VTIMEZONE
TZID:UTC
BEGIN:STANDARD
TZOFFSETFROM:+0000
TZOFFSETTO:+0000
TZNAME:UTC
DTSTART:20220101T000000
END:STANDARD
END:VTIMEZONE
BEGIN:VEVENT
DTSTART;TZID=UTC:20230923T200000
DTEND;TZID=UTC:20230923T200000
DTSTAMP:20260423T053522
CREATED:20230831T092029Z
LAST-MODIFIED:20230905T081818Z
UID:2315-1695499200-1695499200@bakede.de
SUMMARY:Prokl. & Feier 55 Jahre SC
DESCRIPTION:Beschreibung dieser Veranstaltung. Hier steht ein Text\, in dem diese Veranstaltung näher beschrieben wird. Jetzt haben alle Leute\, die diesen Text lesen Lust an dieser Veranstaltung teilzunehmen.
URL:https://bakede.de/event/prokl-feier-55-jahre-sc/
LOCATION:Schützenhaus Egestorf\, Im Dorfe 28\, Egestorf/Süntel\, Niedersachsen\, 31848\, Deutschland
ATTACH;FMTTYPE=image/jpeg:https://bakede.de/wp-content/uploads/2023/08/Hohenstein-Vorschaubild.jpg
END:VEVENT
END:VCALENDAR