BEGIN:VCALENDAR
VERSION:2.0
PRODID:-//Bakede - ECPv6.15.20//NONSGML v1.0//EN
CALSCALE:GREGORIAN
METHOD:PUBLISH
X-WR-CALNAME:Bakede
X-ORIGINAL-URL:https://bakede.de
X-WR-CALDESC:Veranstaltungen für Bakede
REFRESH-INTERVAL;VALUE=DURATION:PT1H
X-Robots-Tag:noindex
X-PUBLISHED-TTL:PT1H
BEGIN:VTIMEZONE
TZID:UTC
BEGIN:STANDARD
TZOFFSETFROM:+0000
TZOFFSETTO:+0000
TZNAME:UTC
DTSTART:20220101T000000
END:STANDARD
END:VTIMEZONE
BEGIN:VEVENT
DTSTART;TZID=UTC:20231025T190000
DTEND;TZID=UTC:20231025T220000
DTSTAMP:20260423T035728
CREATED:20231023T101827Z
LAST-MODIFIED:20231023T110214Z
UID:2817-1698260400-1698271200@bakede.de
SUMMARY:Vorstellung der überarbeiteten Website von Bakede
DESCRIPTION:Vorstellung der neuen Gestaltung der Website von Bakede\, dem neuen Kalender und weiteren Neuerungen.Präsentation von einem neuen schwarzen Brett\, Neuigkeiten\, dem Download Bereich und der neuen Liste der Bakeder Unternehmen. \n\n\n\nAußerdem wird der neue Kalender mit seinen Funktionen präsentiert und die Unterseite der Vereine\, auf denen diese sich präsentieren können.
URL:https://bakede.de/event/vorstellung-der-ueberarbeiteten-website-von-bakede/
LOCATION:Dorfgemeinschaftsraum\, Schulstraße 7\, Bakede\, Deutschland
ATTACH;FMTTYPE=image/jpeg:https://bakede.de/wp-content/uploads/2023/10/Mockup-Laptop-scaled.jpg
END:VEVENT
END:VCALENDAR