BEGIN:VCALENDAR
VERSION:2.0
PRODID:-//Bakede - ECPv6.15.20//NONSGML v1.0//EN
CALSCALE:GREGORIAN
METHOD:PUBLISH
X-ORIGINAL-URL:https://bakede.de
X-WR-CALDESC:Veranstaltungen für Bakede
REFRESH-INTERVAL;VALUE=DURATION:PT1H
X-Robots-Tag:noindex
X-PUBLISHED-TTL:PT1H
BEGIN:VTIMEZONE
TZID:UTC
BEGIN:STANDARD
TZOFFSETFROM:+0000
TZOFFSETTO:+0000
TZNAME:UTC
DTSTART:20220101T000000
END:STANDARD
END:VTIMEZONE
BEGIN:VEVENT
DTSTART;TZID=UTC:20231125T000000
DTEND;TZID=UTC:20231125T235959
DTSTAMP:20260423T021914
CREATED:20230905T072747Z
LAST-MODIFIED:20230905T072752Z
UID:2506-1700870400-1700956799@bakede.de
SUMMARY:Spieleabend
DESCRIPTION:
URL:https://bakede.de/event/spieleabend/
LOCATION:Schützenhaus Bakede
END:VEVENT
END:VCALENDAR