BEGIN:VCALENDAR
VERSION:2.0
PRODID:-//Bakede - ECPv6.15.20//NONSGML v1.0//EN
CALSCALE:GREGORIAN
METHOD:PUBLISH
X-ORIGINAL-URL:https://bakede.de
X-WR-CALDESC:Veranstaltungen für Bakede
REFRESH-INTERVAL;VALUE=DURATION:PT1H
X-Robots-Tag:noindex
X-PUBLISHED-TTL:PT1H
BEGIN:VTIMEZONE
TZID:UTC
BEGIN:STANDARD
TZOFFSETFROM:+0000
TZOFFSETTO:+0000
TZNAME:UTC
DTSTART:20220101T000000
END:STANDARD
END:VTIMEZONE
BEGIN:VEVENT
DTSTART;TZID=UTC:20231209T000000
DTEND;TZID=UTC:20231209T235959
DTSTAMP:20260423T004558
CREATED:20230905T073426Z
LAST-MODIFIED:20230905T073430Z
UID:2515-1702080000-1702166399@bakede.de
SUMMARY:Preis-Skat und -Kniffel
DESCRIPTION:
URL:https://bakede.de/event/preis-skat-und-kniffel/
LOCATION:Schützenhaus Egestorf\, Im Dorfe 28\, Egestorf/Süntel\, Niedersachsen\, 31848\, Deutschland
END:VEVENT
BEGIN:VEVENT
DTSTART;TZID=UTC:20231209T140000
DTEND;TZID=UTC:20231209T140000
DTSTAMP:20260423T004558
CREATED:20230905T073316Z
LAST-MODIFIED:20230905T073321Z
UID:2513-1702130400-1702130400@bakede.de
SUMMARY:Adventstreff rund um Kirche
DESCRIPTION:
URL:https://bakede.de/event/adventstreff-rund-um-kirche/
LOCATION:St. Nicolai-Kirche Bakede
END:VEVENT
END:VCALENDAR