BEGIN:VCALENDAR
VERSION:2.0
PRODID:-//Bakede - ECPv6.15.20//NONSGML v1.0//EN
CALSCALE:GREGORIAN
METHOD:PUBLISH
X-WR-CALNAME:Bakede
X-ORIGINAL-URL:https://bakede.de
X-WR-CALDESC:Veranstaltungen für Bakede
REFRESH-INTERVAL;VALUE=DURATION:PT1H
X-Robots-Tag:noindex
X-PUBLISHED-TTL:PT1H
BEGIN:VTIMEZONE
TZID:UTC
BEGIN:STANDARD
TZOFFSETFROM:+0000
TZOFFSETTO:+0000
TZNAME:UTC
DTSTART:20230101T000000
END:STANDARD
END:VTIMEZONE
BEGIN:VEVENT
DTSTART;TZID=UTC:20240120T183000
DTEND;TZID=UTC:20240120T183000
DTSTAMP:20260422T225908
CREATED:20231211T132109Z
LAST-MODIFIED:20240103T091052Z
UID:3022-1705775400-1705775400@bakede.de
SUMMARY:Jahreshauptversammlung der freiwilligen Feuerwehr Bakede
DESCRIPTION:
URL:https://bakede.de/event/jahreshauptversammlung-der-freiwilligen-feuerwehr-bakede/
LOCATION:Gemeindehaus Kirche
END:VEVENT
BEGIN:VEVENT
DTSTART;TZID=UTC:20240120T190000
DTEND;TZID=UTC:20240120T190000
DTSTAMP:20260422T225908
CREATED:20231211T132232Z
LAST-MODIFIED:20231211T132235Z
UID:3026-1705777200-1705777200@bakede.de
SUMMARY:Konzert Plug´n Play
DESCRIPTION:
URL:https://bakede.de/event/konzert-plugn-play/
LOCATION:St. Nicolai-Kirche Bakede
END:VEVENT
END:VCALENDAR