BEGIN:VCALENDAR
VERSION:2.0
PRODID:-//Bakede - ECPv6.15.20//NONSGML v1.0//EN
CALSCALE:GREGORIAN
METHOD:PUBLISH
X-WR-CALNAME:Bakede
X-ORIGINAL-URL:https://bakede.de
X-WR-CALDESC:Veranstaltungen für Bakede
REFRESH-INTERVAL;VALUE=DURATION:PT1H
X-Robots-Tag:noindex
X-PUBLISHED-TTL:PT1H
BEGIN:VTIMEZONE
TZID:UTC
BEGIN:STANDARD
TZOFFSETFROM:+0000
TZOFFSETTO:+0000
TZNAME:UTC
DTSTART:20230101T000000
END:STANDARD
END:VTIMEZONE
BEGIN:VEVENT
DTSTART;TZID=UTC:20240128T100000
DTEND;TZID=UTC:20240128T100000
DTSTAMP:20260422T225929
CREATED:20231211T132544Z
LAST-MODIFIED:20231211T132547Z
UID:3034-1706436000-1706436000@bakede.de
SUMMARY:Karnevalsgottesdienst
DESCRIPTION:
URL:https://bakede.de/event/karnevalsgottesdienst/
LOCATION:St. Nicolai-Kirche Bakede
END:VEVENT
BEGIN:VEVENT
DTSTART;TZID=UTC:20240128T110000
DTEND;TZID=UTC:20240128T110000
DTSTAMP:20260422T225929
CREATED:20231213T085016Z
LAST-MODIFIED:20231213T085019Z
UID:3265-1706439600-1706439600@bakede.de
SUMMARY:Winterwanderung
DESCRIPTION:
URL:https://bakede.de/event/winterwanderung-2/
END:VEVENT
END:VCALENDAR