BEGIN:VCALENDAR
VERSION:2.0
PRODID:-//Bakede - ECPv6.15.20//NONSGML v1.0//EN
CALSCALE:GREGORIAN
METHOD:PUBLISH
X-ORIGINAL-URL:https://bakede.de
X-WR-CALDESC:Veranstaltungen für Bakede
REFRESH-INTERVAL;VALUE=DURATION:PT1H
X-Robots-Tag:noindex
X-PUBLISHED-TTL:PT1H
BEGIN:VTIMEZONE
TZID:UTC
BEGIN:STANDARD
TZOFFSETFROM:+0000
TZOFFSETTO:+0000
TZNAME:UTC
DTSTART:20230101T000000
END:STANDARD
END:VTIMEZONE
BEGIN:VEVENT
DTSTART;TZID=UTC:20240210T000000
DTEND;TZID=UTC:20240210T235959
DTSTAMP:20260419T220617
CREATED:20231211T162818Z
LAST-MODIFIED:20231211T162820Z
UID:3046-1707523200-1707609599@bakede.de
SUMMARY:Jahreshauptversammlung der freiwilligen Feuerwehr Egestorf
DESCRIPTION:
URL:https://bakede.de/event/jahreshauptversammlung-der-freiwilligen-feuerwehr-egestorf/
LOCATION:Schützenhaus Egestorf\, Im Dorfe 28\, Egestorf/Süntel\, Niedersachsen\, 31848\, Deutschland
END:VEVENT
BEGIN:VEVENT
DTSTART;TZID=UTC:20240210T170000
DTEND;TZID=UTC:20240210T170000
DTSTAMP:20260419T220617
CREATED:20231211T162206Z
LAST-MODIFIED:20231211T162209Z
UID:3040-1707584400-1707584400@bakede.de
SUMMARY:Kirchenkino
DESCRIPTION:
URL:https://bakede.de/event/kirchenkino-5/
LOCATION:St. Nicolai-Kirche Bakede
END:VEVENT
BEGIN:VEVENT
DTSTART;TZID=UTC:20240210T180000
DTEND;TZID=UTC:20240210T180000
DTSTAMP:20260419T220617
CREATED:20231211T162605Z
LAST-MODIFIED:20231211T162607Z
UID:3044-1707588000-1707588000@bakede.de
SUMMARY:Grünkohlessen
DESCRIPTION:
URL:https://bakede.de/event/gruenkohlessen-3/
LOCATION:Schützenhaus Bakede
END:VEVENT
BEGIN:VEVENT
DTSTART;TZID=UTC:20240210T200000
DTEND;TZID=UTC:20240210T200000
DTSTAMP:20260419T220617
CREATED:20231211T162324Z
LAST-MODIFIED:20231211T162327Z
UID:3042-1707595200-1707595200@bakede.de
SUMMARY:Kirchenkino
DESCRIPTION:
URL:https://bakede.de/event/kirchenkino-6/
LOCATION:St. Nicolai-Kirche Bakede
END:VEVENT
END:VCALENDAR